BEGIN:VCALENDAR
VERSION:2.0
PRODID:-//Ekokuriren - ECPv2.0.9//NONSGML v1.0//EN
CALSCALE:GREGORIAN
METHOD:PUBLISH
X-WR-CALNAME:Ekokuriren
X-ORIGINAL-URL:https://ekokuriren.e0.se
X-WR-CALDESC:Events for Ekokuriren
X-WR-TIMEZONE:Europe/Stockholm
BEGIN:VEVENT
DTSTART;VALUE=DATE-TIME:20121129T193000
DTEND;VALUE=DATE-TIME:20121129T220000.000000
DTSTAMP:20260419T145617
CREATED:20121108T201429
LAST-MODIFIED:20121108T201429
UID:1620-1354217400-@https://ekokuriren.e0.se
SUMMARY:Ulf Lundell med band i Linköping
DESCRIPTION:[caption id="attachment_1613" align="alignleft" width="282"] En mer politisk Lundell än på länge är frågande till om folket bygger landet. Klart de gör Ulf. Men hur\, och vet de om det?[/caption]  Det har varit relativt tyst från musikern Ulf Lundell de senaste åren\, både låtskrivandet och turnerandet har varit vilande sedan det senaste studioinspelade albumet "Omaha" 2008 och turnén som avslutades 2009. Under hösten möter vi honom igen med en ny studioinspelad dubbel-cd döpt till "Rent Förbannat" och en landsomfattande turné med premiär den 26 oktober i Västerås. Bandet på turnén\, som även spelar på nya skivan är Jens Frithiof - gitarr\, Markus Olsson - klaviatur och blås\, Andreas Dahlbäck - trummor\, Janne Bark - gitarr och Surjo Benigh - bas.  Det är i år 30 år sedan "Kär &amp; Galen" och "Öppna Landskap" och i snart 40 år har vi kunnat följa Lundells unika och mångfacetterade karriär genom olika konstnärliga uttryck. Via skivor\, böcker\, poesi\, måleri och pjäser har han ständigt varit närvarande och beredd att kommentera sin samtid på sitt personliga sätt. Den här gången gör han det i 22 nyskrivna låtar och som titeln antyder har Lundell en del saker att säga. Här finns både ilska\, frustration och funderingar om företeelser och tillstånd i Sverige och världen 2012.    Här intervjuas Ulf Lundell\, i ensamt majestät\, av Fredrik Skavlan. Från progammet den 12 oktober 2012.      Ulf Lundell med band framför låten "Är vi lyckliga nu?" i SVT-programmet Skavlan den 12 oktober 2012.
LOCATION:Konsistoriegatan 7, Linköping
URL:https://ekokuriren.e0.se/handelse/ulf-lundell-med-band-i-linkoping/
END:VEVENT
END:VCALENDAR