BEGIN:VCALENDAR
VERSION:2.0
PRODID:-//Ekokuriren - ECPv2.0.9//NONSGML v1.0//EN
CALSCALE:GREGORIAN
METHOD:PUBLISH
X-WR-CALNAME:Ekokuriren
X-ORIGINAL-URL:https://ekokuriren.e0.se
X-WR-CALDESC:Events for Ekokuriren
X-WR-TIMEZONE:Europe/Stockholm
BEGIN:VEVENT
DTSTART;VALUE=DATE-TIME:20121102T190000
DTEND;VALUE=DATE-TIME:20121102T203000.000000
DTSTAMP:20260419T163752
CREATED:20121025T184240
LAST-MODIFIED:20121108T195916
UID:1506-1351882800-@https://ekokuriren.e0.se
SUMMARY:Moa Lignell i Ronneby
DESCRIPTION:[caption id="attachment_456" align="alignleft" width="282"] Mycket hjärta och smärta\, men med musikalitet och känsla[/caption]  Moa Lignell\, 18-årig sångerska och låtskrivare som fascinerat många fler än Idol-tittarna med sin "When I Held Ya". Hon har vunnit Rockbjörnen och nu är hon ute på höstturné med sitt band.  Den 12:e september släpptes hennes debutalbum "Different Path". De helt egna Lignell-låtarna har kompletterats med två låtar tonsatta tillsammans med John Engelbert från gruppen Johnossi och några i samarbete med albumets producent Tobias Fröberg\, som tidigare bland annat producerat Ane Brun och Tomas Andersson Wij.  Entré: Onumrerade sittplatser. Vuxen 260 kr\, barn t o m 15 år 160 kr. Biljett kan förköpas hos bland annat Ronneby Turistbyrå\, tel 0457-61 75 70\, Karlshamns Turistbyrå\, tel 0454-812 03\, Ronneby Brunn hotell\, tel 0457-750 00.    Moa Lignell framför låten "Whatever They Do" i SVT-programmet Moraeus med mer den 7 oktober 2012.      Moa Lignell framför låten "When I Held Ya" i SVT-programmet Moraeus med mer den 7 oktober 2012.      Moa Lignell med låten "Home Tonight" vid ett framträdande i Skavlan i september 2012.
LOCATION:Ronneby Brunn, Ronneby
URL:https://ekokuriren.e0.se/handelse/moa-lignell-i-ronneby/
END:VEVENT
END:VCALENDAR