BEGIN:VCALENDAR
VERSION:2.0
PRODID:-//Ekokuriren - ECPv2.0.9//NONSGML v1.0//EN
CALSCALE:GREGORIAN
METHOD:PUBLISH
X-WR-CALNAME:Ekokuriren
X-ORIGINAL-URL:https://ekokuriren.e0.se
X-WR-CALDESC:Events for Ekokuriren
X-WR-TIMEZONE:Europe/Stockholm
BEGIN:VEVENT
DTSTART;VALUE=DATE-TIME:20121202T180000
DTEND;VALUE=DATE-TIME:20121202T203000.000000
DTSTAMP:20260419T145746
CREATED:20121108T231141
LAST-MODIFIED:20121108T231929
UID:1631-1354471200-@https://ekokuriren.e0.se
SUMMARY:Kalle Moraeus & hans vänner i Stockholm
DESCRIPTION:[caption id="attachment_1505" align="alignleft" width="282"] Kalle Moraeus med Lasse Kronér\, Abalone Dots och ?.[/caption]  Lifeline Entertainment presenterar Kalle Moraeus &amp; hans vänner I höst åker Kalle Moraeus ut med Lasse Kronér och Abalone Dots\, med sig har dom även i år Johan Granströms orkester. Det kommer att bli en härlig konsertkväll med blandning av stor komik\, revy\, spännande musik i en resa från folkmusik till rock.  Speltid: 2\,5 tim inkl paus.  Mer information här.
LOCATION:Djurgårdsslätten 43-45, Stockholm
URL:https://ekokuriren.e0.se/handelse/kalle-moraeus-o-hans-vanner-i-stockholm/
END:VEVENT
END:VCALENDAR